Workbook

Sheet gasoil reformer AIP
I2: overall sub
I3: diameter (m) | J3: 3
A4: section | B4: mass (t) | C4: length (m) | I4: length (m) | J4: =J3*10 -> 30
A5: weapons (16Prsm) | B5: 13 | C5: 8 | I5: submerged displacement (t) | J5: =PI()*J4*(J3/2)^2 -> 212.0575
A6: LOX | B6: =J24 -> 17.6 | C6: =J26 -> 3.2594932
A7: gasoil | B7: =N24 -> 4.23632 | C7: =N28 -> 0.74914585
A8: AIP machinery | B8: 50 | C8: 5.5
A9: hull | B9: =J15 -> 57.71357 | I9: thick hull | M9: batteries | Q9: specs AIP DCNS
A10: batteries | B10: =N14 -> 0 | C10: =N18 -> 0 | I10: length (m) | J10: 30 | M10: runtime at 3 knots (h) | N10: 0 | Q10: power (W) | R10: 150000
A11: total | B11: =SUM(B5:B10) -> 142.54989 | C11: =SUM(C5:C10) -> 17.508639 | I11: thickness (m) | J11: 0.025 | M11: runtime at 1 knot (j) | N11: =N10/24*3^3 -> 0 | Q11: endurance at 3 knots for 6m-diameter sub (weeks) | R11: 3
I12: diameter (m) | J12: =J3 -> 3 | M12: energy (J) | N12: =N10*3600*150000*(J3/6)^2 -> 0 | Q12: energy (kJ) | R12: =R10*R11*7*24*3600 -> 272160000000
A13: margin | B13: =J5-B11 -> 69.507614 | C13: =J4-C11 -> 12.491361 | I13: volume (m3) | J13: =PI()*J12*J11*J10+2*PI()*J11*(J12/2)^2 -> 7.4220126 | M13: energy density (J/kg) | N13: 500000 | Q13: vol O2 (m3) | R13: 20
A14: margin % | B14: =B13/J5*100 -> 32.777719 | C14: =C13/J4*100 -> 41.63787 | I14: density (t/m3) | J14: 7.776 | M14: mass (t) | N14: =N12/N13/1000 -> 0 | Q14: length (m) | R14: 8
I15: mass (t) | J15: =J13*J14 -> 57.71357 | M15: density (t/m3) | N15: 3 | Q15: mass of MESMA tranch | R15: 200
M16: volume (m3) | N16: =N14/N15 -> 0
M17: diameter (m) | N17: =J3 -> 3
M18: length | N18: =N16/(PI()*(N17/2)^2) -> 0
Q19: spec AIP miv saab
Q20: 18 days at 5knots, 6m sub
I21: LOX | M21: Gasoil
I22: volume (m3) | J22: 16 | M22: LOX losses (%) | N22: 17 | Q22: spec AIP miii saab
I23: density (t/m3) | J23: 1.1 | M23: mass ratio gasoil/O2 | N23: 0.29 | Q23: 14 days at 5knots, 6m sub
I24: mass (t) | J24: =J22*J23 -> 17.6 | M24: mass (t) | N24: =J24*(1-N22/100)*N23 -> 4.23632
I25: diameter (m) | J25: 2.5 | M25: density (t/m3) | N25: 0.8
I26: length (m) | J26: =J22/(PI()*(J25/2)^2) -> 3.2594932 | M26: volume (m3) | N26: =N24/N25 -> 5.2954
I27: endurance at 3 knots (weeks) | J27: =J22/20*R11*(6/J3)^2 -> 9.6 | M27: diameter (m) | N27: =J3 -> 3
I28: LOX consumption at 3 knots (m3/day) | J28: =J22/(J27*7) -> 0.23809524 | M28: length (m) | N28: =N26/(PI()*(N27/2)^2) -> 0.74914585
I29: LOX consumption at 1 knots (m3/day) | J29: =J28/3^3 -> 0.0088183422
I30: range at 3 knots (nm) | J30: =J27*7*24*3 -> 4838.4
I31: range at 3 knots (km) | J31: =J30*1.85 -> 8951.04
I32: on-station patrol duration at 1600nm, at 1 kt (weeks) | J32: =(J30-3200)/3/24/7*3^3 -> 87.771429
I33: one-way time to patrol area at 1600nm, at 3kt (weeks) | J33: =1600/3/24/7 -> 3.1746032
I34: total mission duration for a patrol at 1600nm (weeks) | J34: =J32+2*J33 -> 94.120635
I36: taking losses into account, simple model (overestimates losses)
I37: required mission time with losses (weeks) (modify until it equal to actual mission time) | J37: 30
I38: daily O2 loss rate | J38: 0.0013
I39: effective range at 3 knots after losses (nm) | J39: =J30*(1-J38)^(J37*7) -> 3681.8174
I40: actual mission time with losses (weeks) | J40: =2*J33+(J39-3200)/3/24/7*27 -> 32.160852
I41: actual on-station time (weeks) | J41: =J40-2*J33 -> 25.811645
I42: on-station duty rate (%) | J42: =J41/J40*100 -> 80.257966
...

Sheet LOX reserve
A1: day | B1: week | C1: speed(kt) | D1: LOX volume (m3) | E1: evaporation loss (m3) | F1: propulsion consumption (m3)
A2: 0 | B2: =A2/7 -> 0 | C2: 3 | D2: 16 | E2: 0
A3: =A2+1 -> 1 | B3: =A3/7 -> 0.14285714 | C3: =3 -> 3 | D3: =D2*(1-'gasoil reformer AIP'!$J$38)-IF(C2=3,'gasoil reformer AIP'!$J$28,IF(C2=1,'gasoil reformer AIP'!$J$29,10000000000)) -> 15.741105 | E3: =D2*'gasoil reformer AIP'!$J$38 -> 0.0208 | F3: =IF(C2=3,'gasoil reformer AIP'!$J$28,IF(C2=1,'gasoil reformer AIP'!$J$29,10000000000)) -> 0.23809524
A4: =A3+1 -> 2 | B4: =A4/7 -> 0.28571429 | C4: =3 -> 3 | D4: =D3*(1-'gasoil reformer AIP'!$J$38)-IF(C3=3,'gasoil reformer AIP'!$J$28,IF(C3=1,'gasoil reformer AIP'!$J$29,10000000000)) -> 15.482546 | E4: =D3*'gasoil reformer AIP'!$J$38 -> 0.020463436 | F4: =IF(C3=3,'gasoil reformer AIP'!$J$28,IF(C3=1,'gasoil reformer AIP'!$J$29,10000000000)) -> 0.23809524 | I4: total evaporation loss (m3)
A5: =A4+1 -> 3 | B5: =A5/7 -> 0.42857143 | C5: =3 -> 3 | D5: =D4*(1-'gasoil reformer AIP'!$J$38)-IF(C4=3,'gasoil reformer AIP'!$J$28,IF(C4=1,'gasoil reformer AIP'!$J$29,10000000000)) -> 15.224324 | E5: =D4*'gasoil reformer AIP'!$J$38 -> 0.02012731 | F5: =IF(C4=3,'gasoil reformer AIP'!$J$28,IF(C4=1,'gasoil reformer AIP'!$J$29,10000000000)) -> 0.23809524 | I5: =SUM(E:E) -> 2.7187006
A6: =A5+1 -> 4 | B6: =A6/7 -> 0.57142857 | C6: =3 -> 3 | D6: =D5*(1-'gasoil reformer AIP'!$J$38)-IF(C5=3,'gasoil reformer AIP'!$J$28,IF(C5=1,'gasoil reformer AIP'!$J$29,10000000000)) -> 14.966437 | E6: =D5*'gasoil reformer AIP'!$J$38 -> 0.019791621 | F6: =IF(C5=3,'gasoil reformer AIP'!$J$28,IF(C5=1,'gasoil reformer AIP'!$J$29,10000000000)) -> 0.23809524 | I6: total evaporation loss(%)
A7: =A6+1 -> 5 | B7: =A7/7 -> 0.71428571 | C7: =3 -> 3 | D7: =D6*(1-'gasoil reformer AIP'!$J$38)-IF(C6=3,'gasoil reformer AIP'!$J$28,IF(C6=1,'gasoil reformer AIP'!$J$29,10000000000)) -> 14.708885 | E7: =D6*'gasoil reformer AIP'!$J$38 -> 0.019456368 | F7: =IF(C6=3,'gasoil reformer AIP'!$J$28,IF(C6=1,'gasoil reformer AIP'!$J$29,10000000000)) -> 0.23809524 | I7: =I5/D2*100 -> 16.991879
A8: =A7+1 -> 6 | B8: =A8/7 -> 0.85714286 | C8: =3 -> 3 | D8: =D7*(1-'gasoil reformer AIP'!$J$38)-IF(C7=3,'gasoil reformer AIP'!$J$28,IF(C7=1,'gasoil reformer AIP'!$J$29,10000000000)) -> 14.451668 | E8: =D7*'gasoil reformer AIP'!$J$38 -> 0.019121551 | F8: =IF(C7=3,'gasoil reformer AIP'!$J$28,IF(C7=1,'gasoil reformer AIP'!$J$29,10000000000)) -> 0.23809524
A9: =A8+1 -> 7 | B9: =A9/7 -> 1 | C9: =3 -> 3 | D9: =D8*(1-'gasoil reformer AIP'!$J$38)-IF(C8=3,'gasoil reformer AIP'!$J$28,IF(C8=1,'gasoil reformer AIP'!$J$29,10000000000)) -> 14.194786 | E9: =D8*'gasoil reformer AIP'!$J$38 -> 0.018787169 | F9: =IF(C8=3,'gasoil reformer AIP'!$J$28,IF(C8=1,'gasoil reformer AIP'!$J$29,10000000000)) -> 0.23809524
A10: =A9+1 -> 8 | B10: =A10/7 -> 1.1428571 | C10: =3 -> 3 | D10: =D9*(1-'gasoil reformer AIP'!$J$38)-IF(C9=3,'gasoil reformer AIP'!$J$28,IF(C9=1,'gasoil reformer AIP'!$J$29,10000000000)) -> 13.938237 | E10: =D9*'gasoil reformer AIP'!$J$38 -> 0.018453222 | F10: =IF(C9=3,'gasoil reformer AIP'!$J$28,IF(C9=1,'gasoil reformer AIP'!$J$29,10000000000)) -> 0.23809524
A11: =A10+1 -> 9 | B11: =A11/7 -> 1.2857143 | C11: =3 -> 3 | D11: =D10*(1-'gasoil reformer AIP'!$J$38)-IF(C10=3,'gasoil reformer AIP'!$J$28,IF(C10=1,'gasoil reformer AIP'!$J$29,10000000000)) -> 13.682022 | E11: =D10*'gasoil reformer AIP'!$J$38 -> 0.018119709 | F11: =IF(C10=3,'gasoil reformer AIP'!$J$28,IF(C10=1,'gasoil reformer AIP'!$J$29,10000000000)) -> 0.23809524
A12: =A11+1 -> 10 | B12: =A12/7 -> 1.4285714 | C12: =3 -> 3 | D12: =D11*(1-'gasoil reformer AIP'!$J$38)-IF(C11=3,'gasoil reformer AIP'!$J$28,IF(C11=1,'gasoil reformer AIP'!$J$29,10000000000)) -> 13.426141 | E12: =D11*'gasoil reformer AIP'!$J$38 -> 0.017786629 | F12: =IF(C11=3,'gasoil reformer AIP'!$J$28,IF(C11=1,'gasoil reformer AIP'!$J$29,10000000000)) -> 0.23809524
A13: =A12+1 -> 11 | B13: =A13/7 -> 1.5714286 | C13: =3 -> 3 | D13: =D12*(1-'gasoil reformer AIP'!$J$38)-IF(C12=3,'gasoil reformer AIP'!$J$28,IF(C12=1,'gasoil reformer AIP'!$J$29,10000000000)) -> 13.170591 | E13: =D12*'gasoil reformer AIP'!$J$38 -> 0.017453983 | F13: =IF(C12=3,'gasoil reformer AIP'!$J$28,IF(C12=1,'gasoil reformer AIP'!$J$29,10000000000)) -> 0.23809524
A14: =A13+1 -> 12 | B14: =A14/7 -> 1.7142857 | C14: =3 -> 3 | D14: =D13*(1-'gasoil reformer AIP'!$J$38)-IF(C13=3,'gasoil reformer AIP'!$J$28,IF(C13=1,'gasoil reformer AIP'!$J$29,10000000000)) -> 12.915374 | E14: =D13*'gasoil reformer AIP'!$J$38 -> 0.017121769 | F14: =IF(C13=3,'gasoil reformer AIP'!$J$28,IF(C13=1,'gasoil reformer AIP'!$J$29,10000000000)) -> 0.23809524
A15: =A14+1 -> 13 | B15: =A15/7 -> 1.8571429 | C15: =3 -> 3 | D15: =D14*(1-'gasoil reformer AIP'!$J$38)-IF(C14=3,'gasoil reformer AIP'!$J$28,IF(C14=1,'gasoil reformer AIP'!$J$29,10000000000)) -> 12.660489 | E15: =D14*'gasoil reformer AIP'!$J$38 -> 0.016789987 | F15: =IF(C14=3,'gasoil reformer AIP'!$J$28,IF(C14=1,'gasoil reformer AIP'!$J$29,10000000000)) -> 0.23809524
A16: =A15+1 -> 14 | B16: =A16/7 -> 2 | C16: =3 -> 3 | D16: =D15*(1-'gasoil reformer AIP'!$J$38)-IF(C15=3,'gasoil reformer AIP'!$J$28,IF(C15=1,'gasoil reformer AIP'!$J$29,10000000000)) -> 12.405935 | E16: =D15*'gasoil reformer AIP'!$J$38 -> 0.016458636 | F16: =IF(C15=3,'gasoil reformer AIP'!$J$28,IF(C15=1,'gasoil reformer AIP'!$J$29,10000000000)) -> 0.23809524
A17: =A16+1 -> 15 | B17: =A17/7 -> 2.1428571 | C17: =3 -> 3 | D17: =D16*(1-'gasoil reformer AIP'!$J$38)-IF(C16=3,'gasoil reformer AIP'!$J$28,IF(C16=1,'gasoil reformer AIP'!$J$29,10000000000)) -> 12.151712 | E17: =D16*'gasoil reformer AIP'!$J$38 -> 0.016127716 | F17: =IF(C16=3,'gasoil reformer AIP'!$J$28,IF(C16=1,'gasoil reformer AIP'!$J$29,10000000000)) -> 0.23809524
A18: =A17+1 -> 16 | B18: =A18/7 -> 2.2857143 | C18: =3 -> 3 | D18: =D17*(1-'gasoil reformer AIP'!$J$38)-IF(C17=3,'gasoil reformer AIP'!$J$28,IF(C17=1,'gasoil reformer AIP'!$J$29,10000000000)) -> 11.89782 | E18: =D17*'gasoil reformer AIP'!$J$38 -> 0.015797226 | F18: =IF(C17=3,'gasoil reformer AIP'!$J$28,IF(C17=1,'gasoil reformer AIP'!$J$29,10000000000)) -> 0.23809524
A19: =A18+1 -> 17 | B19: =A19/7 -> 2.4285714 | C19: =3 -> 3 | D19: =D18*(1-'gasoil reformer AIP'!$J$38)-IF(C18=3,'gasoil reformer AIP'!$J$28,IF(C18=1,'gasoil reformer AIP'!$J$29,10000000000)) -> 11.644257 | E19: =D18*'gasoil reformer AIP'!$J$38 -> 0.015467166 | F19: =IF(C18=3,'gasoil reformer AIP'!$J$28,IF(C18=1,'gasoil reformer AIP'!$J$29,10000000000)) -> 0.23809524
... A25: =A24+1 -> 23 | B25: =A25/7 -> 3.2857143 | C25: =3 -> 3 | D25: =D24*(1-'gasoil reformer AIP'!$J$38)-IF(C24=3,'gasoil reformer AIP'!$J$28,IF(C24=1,'gasoil reformer AIP'!$J$29,10000000000)) -> 10.12979 | E25: =D24*'gasoil reformer AIP'!$J$38 -> 0.013495796 | F25: =IF(C24=3,'gasoil reformer AIP'!$J$28,IF(C24=1,'gasoil reformer AIP'!$J$29,10000000000)) -> 0.23809524
A26: =A25+1 -> 24 | B26: =A26/7 -> 3.4285714 | C26: 1 | D26: =D25*(1-'gasoil reformer AIP'!$J$38)-IF(C25=3,'gasoil reformer AIP'!$J$28,IF(C25=1,'gasoil reformer AIP'!$J$29,10000000000)) -> 9.8785263 | E26: =D25*'gasoil reformer AIP'!$J$38 -> 0.013168727 | F26: =IF(C25=3,'gasoil reformer AIP'!$J$28,IF(C25=1,'gasoil reformer AIP'!$J$29,10000000000)) -> 0.23809524
A27: =A26+1 -> 25 | B27: =A27/7 -> 3.5714286 | C27: 1 | D27: =D26*(1-'gasoil reformer AIP'!$J$38)-IF(C26=3,'gasoil reformer AIP'!$J$28,IF(C26=1,'gasoil reformer AIP'!$J$29,10000000000)) -> 9.8568659 | E27: =D26*'gasoil reformer AIP'!$J$38 -> 0.012842084 | F27: =IF(C26=3,'gasoil reformer AIP'!$J$28,IF(C26=1,'gasoil reformer AIP'!$J$29,10000000000)) -> 0.0088183422
A28: =A27+1 -> 26 | B28: =A28/7 -> 3.7142857 | C28: 1 | D28: =D27*(1-'gasoil reformer AIP'!$J$38)-IF(C27=3,'gasoil reformer AIP'!$J$28,IF(C27=1,'gasoil reformer AIP'!$J$29,10000000000)) -> 9.8352336 | E28: =D27*'gasoil reformer AIP'!$J$38 -> 0.012813926 | F28: =IF(C27=3,'gasoil reformer AIP'!$J$28,IF(C27=1,'gasoil reformer AIP'!$J$29,10000000000)) -> 0.0088183422
A29: =A28+1 -> 27 | B29: =A29/7 -> 3.8571429 | C29: 1 | D29: =D28*(1-'gasoil reformer AIP'!$J$38)-IF(C28=3,'gasoil reformer AIP'!$J$28,IF(C28=1,'gasoil reformer AIP'!$J$29,10000000000)) -> 9.8136295 | E29: =D28*'gasoil reformer AIP'!$J$38 -> 0.012785804 | F29: =IF(C28=3,'gasoil reformer AIP'!$J$28,IF(C28=1,'gasoil reformer AIP'!$J$29,10000000000)) -> 0.0088183422
A30: =A29+1 -> 28 | B30: =A30/7 -> 4 | C30: 1 | D30: =D29*(1-'gasoil reformer AIP'!$J$38)-IF(C29=3,'gasoil reformer AIP'!$J$28,IF(C29=1,'gasoil reformer AIP'!$J$29,10000000000)) -> 9.7920534 | E30: =D29*'gasoil reformer AIP'!$J$38 -> 0.012757718 | F30: =IF(C29=3,'gasoil reformer AIP'!$J$28,IF(C29=1,'gasoil reformer AIP'!$J$29,10000000000)) -> 0.0088183422
A31: =A30+1 -> 29 | B31: =A31/7 -> 4.1428571 | C31: 1 | D31: =D30*(1-'gasoil reformer AIP'!$J$38)-IF(C30=3,'gasoil reformer AIP'!$J$28,IF(C30=1,'gasoil reformer AIP'!$J$29,10000000000)) -> 9.7705054 | E31: =D30*'gasoil reformer AIP'!$J$38 -> 0.012729669 | F31: =IF(C30=3,'gasoil reformer AIP'!$J$28,IF(C30=1,'gasoil reformer AIP'!$J$29,10000000000)) -> 0.0088183422
A32: =A31+1 -> 30 | B32: =A32/7 -> 4.2857143 | C32: 1 | D32: =D31*(1-'gasoil reformer AIP'!$J$38)-IF(C31=3,'gasoil reformer AIP'!$J$28,IF(C31=1,'gasoil reformer AIP'!$J$29,10000000000)) -> 9.7489854 | E32: =D31*'gasoil reformer AIP'!$J$38 -> 0.012701657 | F32: =IF(C31=3,'gasoil reformer AIP'!$J$28,IF(C31=1,'gasoil reformer AIP'!$J$29,10000000000)) -> 0.0088183422
A33: =A32+1 -> 31 | B33: =A33/7 -> 4.4285714 | C33: 1 | D33: =D32*(1-'gasoil reformer AIP'!$J$38)-IF(C32=3,'gasoil reformer AIP'!$J$28,IF(C32=1,'gasoil reformer AIP'!$J$29,10000000000)) -> 9.7274934 | E33: =D32*'gasoil reformer AIP'!$J$38 -> 0.012673681 | F33: =IF(C32=3,'gasoil reformer AIP'!$J$28,IF(C32=1,'gasoil reformer AIP'!$J$29,10000000000)) -> 0.0088183422
A34: =A33+1 -> 32 | B34: =A34/7 -> 4.5714286 | C34: 1 | D34: =D33*(1-'gasoil reformer AIP'!$J$38)-IF(C33=3,'gasoil reformer AIP'!$J$28,IF(C33=1,'gasoil reformer AIP'!$J$29,10000000000)) -> 9.7060293 | E34: =D33*'gasoil reformer AIP'!$J$38 -> 0.012645741 | F34: =IF(C33=3,'gasoil reformer AIP'!$J$28,IF(C33=1,'gasoil reformer AIP'!$J$29,10000000000)) -> 0.0088183422
A35: =A34+1 -> 33 | B35: =A35/7 -> 4.7142857 | C35: 1 | D35: =D34*(1-'gasoil reformer AIP'!$J$38)-IF(C34=3,'gasoil reformer AIP'!$J$28,IF(C34=1,'gasoil reformer AIP'!$J$29,10000000000)) -> 9.6845931 | E35: =D34*'gasoil reformer AIP'!$J$38 -> 0.012617838 | F35: =IF(C34=3,'gasoil reformer AIP'!$J$28,IF(C34=1,'gasoil reformer AIP'!$J$29,10000000000)) -> 0.0088183422
A36: =A35+1 -> 34 | B36: =A36/7 -> 4.8571429 | C36: 1 | D36: =D35*(1-'gasoil reformer AIP'!$J$38)-IF(C35=3,'gasoil reformer AIP'!$J$28,IF(C35=1,'gasoil reformer AIP'!$J$29,10000000000)) -> 9.6631848 | E36: =D35*'gasoil reformer AIP'!$J$38 -> 0.012589971 | F36: =IF(C35=3,'gasoil reformer AIP'!$J$28,IF(C35=1,'gasoil reformer AIP'!$J$29,10000000000)) -> 0.0088183422
A37: =A36+1 -> 35 | B37: =A37/7 -> 5 | C37: 1 | D37: =D36*(1-'gasoil reformer AIP'!$J$38)-IF(C36=3,'gasoil reformer AIP'!$J$28,IF(C36=1,'gasoil reformer AIP'!$J$29,10000000000)) -> 9.6418043 | E37: =D36*'gasoil reformer AIP'!$J$38 -> 0.01256214 | F37: =IF(C36=3,'gasoil reformer AIP'!$J$28,IF(C36=1,'gasoil reformer AIP'!$J$29,10000000000)) -> 0.0088183422
... A270: =A269+1 -> 268 | B270: =A270/7 -> 38.285714 | C270: 3 | D270: =D269*(1-'gasoil reformer AIP'!$J$38)-IF(C269=3,'gasoil reformer AIP'!$J$28,IF(C269=1,'gasoil reformer AIP'!$J$29,10000000000)) -> 0.37124645 | E270: =D269*'gasoil reformer AIP'!$J$38 -> 0.00079317532 | F270: =IF(C269=3,'gasoil reformer AIP'!$J$28,IF(C269=1,'gasoil reformer AIP'!$J$29,10000000000)) -> 0.23809524

Sheet CG
A2: Full
A3: section | B3: mass (t) | C3: CG x from bow | D3: CG x * M
A4: weapons 1 (8Prsm) | B4: 6.5 | C4: 4.3 | D4: =C4*B4 -> 27.95
A5: weapons 2 (8Prsm) | B5: 6.5 | C5: 22.6 | D5: =C5*B5 -> 146.9
A6: LOX | B6: 17.6 | C6: 18 | D6: =C6*B6 -> 316.8
A7: gasoil | B7: 4.2 | C7: 0.4 | D7: =C7*B7 -> 1.68
A8: AIP machinery | B8: 50 | C8: 13.5 | D8: =C8*B8 -> 675
A9: hull | B9: 57.71357 | C9: 13.5 | D9: =C9*B9 -> 779.1332
A10: batteries | B10: 0.135
A11: total | B11: 164.01257
A13: CG x from bow | B13: =SUM(D4:D9)/SUM(B4:B9) -> 13.665107
A18: WP only
A19: section | B19: mass (t) | C19: CG x from bow | D19: CG x * M
A20: weapons 1 (8Prsm) | B20: 6.5 | C20: 4.3 | D20: =C20*B20 -> 27.95
A21: weapons 2 (8Prsm) | B21: 6.5 | C21: 22.6 | D21: =C21*B21 -> 146.9
A22: LOX | B22: 0 | C22: 18 | D22: =C22*B22 -> 0
A23: gasoil | B23: 0 | C23: 0.4 | D23: =C23*B23 -> 0
A24: AIP machinery | B24: 0 | C24: 13.5 | D24: =C24*B24 -> 0
A25: hull | B25: 0 | C25: 13.5 | D25: =C25*B25 -> 0
A26: batteries | B26: 0
A27: total | B27: 164.01257
A29: CG x from bow | B29: =SUM(D20:D25)/SUM(B20:B25) -> 13.45
A31: Prop only
A32: section | B32: mass (t) | C32: CG x from bow | D32: CG x * M
A33: weapons 1 (8Prsm) | B33: 0 | C33: 4.3 | D33: =C33*B33 -> 0
A34: weapons 2 (8Prsm) | B34: 0 | C34: 22.6 | D34: =C34*B34 -> 0
A35: LOX | B35: 17.6 | C35: 18 | D35: =C35*B35 -> 316.8
A36: gasoil | B36: 4.2 | C36: 0.4 | D36: =C36*B36 -> 1.68
A37: AIP machinery | B37: 0 | C37: 13.5 | D37: =C37*B37 -> 0
A38: hull | B38: 0 | C38: 13.5 | D38: =C38*B38 -> 0
A39: batteries | B39: 0.135
A40: total | B40: 164.01257
A42: CG x from bow | B42: =SUM(D33:D38)/SUM(B33:B38) -> 14.609174

Sheet Methane stirling AIP
I2: overall sub
I3: diameter (m) | J3: 3
A4: section | B4: mass (t) | C4: length (m) | I4: length (m) | J4: =J3*10 -> 30
A5: weapons (16Prsm) | I5: submerged displacement (t) | J5: =PI()*J4*(J3/2)^2 -> 212.0575
A6: LOX
A7: gasoil
A8: AIP machinery
A9: hull | I9: thick hull
A10: batteries | I10: length (m) | J10: 30 | R10: 150000
A11: total | I11: thickness (m) | J11: 0.025 | R11: 3
I12: diameter (m) | J12: =J3 -> 3 | R12: =R10*R11*7*24*3600 -> 272160000000
A13: margin | I13: volume (m3) | J13: =PI()*J12*J11*J10+2*PI()*J11*(J12/2)^2 -> 7.4220126 | R13: 20
A14: margin % | I14: density (t/m3) | J14: 7.776 | R14: 8
I15: mass (t) | J15: =J13*J14 -> 57.71357 | R15: 200
I18: AIP
I19: Stirling engine efficiency | J19: 0.36 | Q19: spec AIP miv saab
I20: combustion energy of methane (J/t) | J20: 55500000000 | Q20: 18 days at 5knots, 6m sub
I21: required power to engine (W) (6m diam sub, 3 kt) | J21: =150000/4 -> 37500
I22: methane consumption (t/s) | J22: =J21/J19/J20 -> 1.8768769e-06 | Q22: spec AIP miii saab
I23: required endurance (weeks) | J23: 8.5 | Q23: 14 days at 5knots, 6m sub
I24: total methane consumption (t) | J24: =J22*3600*24*7*J23 -> 9.6486486
I25: methane density (t/m3) | J25: 0.42
I26: total methane consumption (m3) | J26: =J24/J25 -> 22.972973
I27: length( (m) | J27: =J26/(PI()*(J3/2)^2) -> 3.2500108
I28: O2 to methane ratio by mass | J28: =64/16 -> 4
I29: O2 consumption (t) | J29: =J24*J28 -> 38.594595
I30: O2 density | J30: 1.1
I31: O2 volume (m3) | J31: =J29/J30 -> 35.085995
I32: O2 length (m) | J32: =J31/(PI()*(J12/2)^2) -> 4.9636529
I37: AIP
I38: Stirling engine efficiency | J38: 0.36
I39: combustion energy of ethanol (J/t) | J39: 28700000000
I40: required power to engine (W) (6m diam sub, 3 kt) | J40: =150000/4 -> 37500
I41: ethanol consumption (t/s) | J41: =J40/J38/J39 -> 3.6295006e-06
I42: required endurance (weeks) | J42: 8.5
I43: total ethanol consumption (t) | J43: =J41*3600*24*7*J42 -> 18.658537
I44: ethanol density (t/m3) | J44: 0.8
I45: total ethanol consumption (m3) | J45: =J43/J44 -> 23.323171
I46: length (m) | J46: =J45/(PI()*(J12/2)^2) -> 3.2995537
I47: O2 to ethanol ratio by mass | J47: =96/46 -> 2.0869565
...

Sheet Sheet3
